BEGIN:VCALENDAR
VERSION:2.0
PRODID:-//ZContent.net//ZapCalLib 1.0//EN
CALSCALE:GREGORIAN
METHOD:PUBLISH
BEGIN:VEVENT
SUMMARY:Böll Debate | “JERUSALEM AND THE EUROPEAN UNION”
DTSTART:20181119T140000
DTEND:20181119T160000
UID:2026-04-24-14-15-01-0-@calendar.boell.de
DTSTAMP:20260424T121501
DESCRIPTION:▶ Siehe Veranstaltungsbeschreibung – Heinrich-Böll-Stiftun
 g Palästina und Jordanien
END:VEVENT
END:VCALENDAR
