BEGIN:VCALENDAR
VERSION:2.0
PRODID:-//ZContent.net//ZapCalLib 1.0//EN
CALSCALE:GREGORIAN
METHOD:PUBLISH
BEGIN:VEVENT
SUMMARY:25 Darsad | Effects of the parliamentary women´s quota in Afghanis
 tan
DTSTART:20181129T160000
DTEND:20181129T190000
UID:2026-04-21-15-22-39-0-@calendar.boell.de
DTSTAMP:20260421T132239
DESCRIPTION:Heinrich-Böll-Stiftung - Bundesstiftung Berlin – Berlin – 
 Heinrich-Böll-Stiftung - Bundesstiftung Berlin
END:VEVENT
END:VCALENDAR
