BEGIN:VCALENDAR
VERSION:2.0
PRODID:-//ZContent.net//ZapCalLib 1.0//EN
CALSCALE:GREGORIAN
METHOD:PUBLISH
BEGIN:VEVENT
SUMMARY:Panel Discussion on Women, Labour and ‘Cultures’ of Work | How 
 do cultural and social settings that influence the workplace affect women'
 s participation in the workforce? 
DTSTART:20181120T140000
DTEND:20181120T170000
UID:2026-04-23-06-55-22-0-@calendar.boell.de
DTSTAMP:20260423T045522
DESCRIPTION:
END:VEVENT
END:VCALENDAR
