BEGIN:VCALENDAR
VERSION:2.0
PRODID:-//ZContent.net//ZapCalLib 1.0//EN
CALSCALE:GREGORIAN
METHOD:PUBLISH
BEGIN:VEVENT
SUMMARY:Rethinking Public Spaces | Re-imagining Nairobi
DTSTART:20181129T170011
DTEND:20181129T200011
UID:2026-04-24-09-05-16-0-@calendar.boell.de
DTSTAMP:20260424T070516
DESCRIPTION:Nairobi – Heinrich-Böll-Stiftung Nairobi Office - Kenya\, Ug
 anda\, Tanzania
END:VEVENT
END:VCALENDAR
