BEGIN:VCALENDAR
VERSION:2.0
PRODID:-//ZContent.net//ZapCalLib 1.0//EN
CALSCALE:GREGORIAN
METHOD:PUBLISH
BEGIN:VEVENT
SUMMARY:Moments of Mistrust in South Caucasus / უნდობლობი
 ს მომენტები სამხრეთ კავკას
 აში | Florian Muehlfried’s public lecture / ფლორიან
  მიულფრიდის საჯარო ლექცია
DTSTART:20181207T160000
DTEND:20181207T180000
UID:2026-04-24-21-30-10-0-@calendar.boell.de
DTSTAMP:20260424T193010
DESCRIPTION:Tiflis – Heinrich-Böll-Stiftung Tbilisi - Region Südkaukasu
 s
END:VEVENT
END:VCALENDAR
