BEGIN:VCALENDAR
VERSION:2.0
PRODID:-//ZContent.net//ZapCalLib 1.0//EN
CALSCALE:GREGORIAN
METHOD:PUBLISH
BEGIN:VEVENT
SUMMARY:New Impulses for the EU Refugee, Asylum and Migration Policy
DTSTART:20190319T100000
DTEND:20190319T163000
UID:2026-04-22-19-31-18-0-@calendar.boell.de
DTSTAMP:20260422T173118
DESCRIPTION:Brüssel – Heinrich-Böll-Stiftung Brüssel - Europäische Un
 ion
END:VEVENT
END:VCALENDAR
