BEGIN:VCALENDAR
VERSION:2.0
PRODID:-//ZContent.net//ZapCalLib 1.0//EN
CALSCALE:GREGORIAN
METHOD:PUBLISH
BEGIN:VEVENT
SUMMARY:Gender Forum | Bridging Gender Equality Through Innovation
DTSTART:20190312T163000
DTEND:20190312T183000
UID:2026-04-24-12-09-17-0-@calendar.boell.de
DTSTAMP:20260424T100917
DESCRIPTION:Heinrich-Böll-Stiftung Nairobi Office - Kenya\, Uganda\, Tanza
 nia
END:VEVENT
END:VCALENDAR
