BEGIN:VCALENDAR
VERSION:2.0
PRODID:-//ZContent.net//ZapCalLib 1.0//EN
CALSCALE:GREGORIAN
METHOD:PUBLISH
BEGIN:VEVENT
SUMMARY:Climate Finance | Why Gender Advocates Should Care About Climate Fi
 nance & the Green Climate Fund (GCF)
DTSTART:20190320T123000
DTEND:20190320T140000
UID:2026-04-24-12-08-53-0-@calendar.boell.de
DTSTAMP:20260424T100853
DESCRIPTION:New York – Heinrich-Böll-Stiftung Washington\, DC - USA\, Ka
 nada\, Globaler Dialog
END:VEVENT
END:VCALENDAR
