BEGIN:VCALENDAR
VERSION:2.0
PRODID:-//ZContent.net//ZapCalLib 1.0//EN
CALSCALE:GREGORIAN
METHOD:PUBLISH
BEGIN:VEVENT
SUMMARY:Agriculture Atlas 2019  | Facts and figures on EU farming policy
DTSTART:20190514T180000
DTEND:20190514T220000
UID:2026-04-23-22-09-58-0-@calendar.boell.de
DTSTAMP:20260423T200958
DESCRIPTION:Brüssel – Heinrich-Böll-Stiftung Brüssel - Europäische Un
 ion
END:VEVENT
END:VCALENDAR
