BEGIN:VCALENDAR
VERSION:2.0
PRODID:-//ZContent.net//ZapCalLib 1.0//EN
CALSCALE:GREGORIAN
METHOD:PUBLISH
BEGIN:VEVENT
SUMMARY:Gender and economic policy discussion forum XXIX | ‘Who weaves: T
 he gender question in the handloom industry.’
DTSTART:20190513T093000
DTEND:20190513T130000
UID:2026-04-21-12-45-32-0-@calendar.boell.de
DTSTAMP:20260421T104532
DESCRIPTION:
END:VEVENT
END:VCALENDAR
