BEGIN:VCALENDAR
VERSION:2.0
PRODID:-//ZContent.net//ZapCalLib 1.0//EN
CALSCALE:GREGORIAN
METHOD:PUBLISH
BEGIN:VEVENT
SUMMARY:ENERGY COMMUNITY SUSTAINABILITY FORUM | EMBRACING A DECARBONIZED FU
 TURE
DTSTART:20190627T090000
DTEND:20190627T190000
UID:2026-04-23-23-19-50-0-@calendar.boell.de
DTSTAMP:20260423T211950
DESCRIPTION:Wien – 
END:VEVENT
END:VCALENDAR
