BEGIN:VCALENDAR
VERSION:2.0
PRODID:-//ZContent.net//ZapCalLib 1.0//EN
CALSCALE:GREGORIAN
METHOD:PUBLISH
BEGIN:VEVENT
SUMMARY:Gender Forum |  Impact of GMOs on Women’s Food Security
DTSTART:20190625T163000
DTEND:20190625T190000
UID:2026-04-24-08-45-19-0-@calendar.boell.de
DTSTAMP:20260424T064519
DESCRIPTION:Nairobi – Heinrich-Böll-Stiftung Nairobi Office - Kenya\, Ug
 anda\, Tanzania
END:VEVENT
END:VCALENDAR
