BEGIN:VCALENDAR
VERSION:2.0
PRODID:-//ZContent.net//ZapCalLib 1.0//EN
CALSCALE:GREGORIAN
METHOD:PUBLISH
BEGIN:VEVENT
SUMMARY:Gender and Economic Policy Discussion Forum:  | Gender concerns and
  representation of women in general elections
DTSTART:20190808T093000
DTEND:20190808T130000
UID:2026-04-22-21-56-13-0-@calendar.boell.de
DTSTAMP:20260422T195613
DESCRIPTION:New Delhi – 
END:VEVENT
END:VCALENDAR
