BEGIN:VCALENDAR
VERSION:2.0
PRODID:-//ZContent.net//ZapCalLib 1.0//EN
CALSCALE:GREGORIAN
METHOD:PUBLISH
BEGIN:VEVENT
SUMMARY:Gender Forum | The Silence on Sexual Harassment in Kenya
DTSTART:20191001T170000
DTEND:20191001T193000
UID:2026-04-24-06-24-34-0-@calendar.boell.de
DTSTAMP:20260424T042434
DESCRIPTION:▶ Siehe Veranstaltungsbeschreibung – Nairobi – Heinrich-B
 öll-Stiftung Nairobi Office - Kenya\, Uganda\, Tanzania
END:VEVENT
END:VCALENDAR
