BEGIN:VCALENDAR
VERSION:2.0
PRODID:-//ZContent.net//ZapCalLib 1.0//EN
CALSCALE:GREGORIAN
METHOD:PUBLISH
BEGIN:VEVENT
SUMMARY:Launch: Kenya Arts Diary 2020 | Kenya Arts Diary 2020
DTSTART:20191004T170000
DTEND:20191004T200000
UID:2026-04-24-03-24-53-0-@calendar.boell.de
DTSTAMP:20260424T012453
DESCRIPTION:▶ Siehe Veranstaltungsbeschreibung – Nairobi – Heinrich-B
 öll-Stiftung Nairobi Office - Kenya\, Uganda\, Tanzania
END:VEVENT
END:VCALENDAR
