BEGIN:VCALENDAR
VERSION:2.0
PRODID:-//ZContent.net//ZapCalLib 1.0//EN
CALSCALE:GREGORIAN
METHOD:PUBLISH
BEGIN:VEVENT
SUMMARY:Gender and economic policy discussion forum XXXI | Women in tourism
 : Unpacking the entrepreneurship and livelihood prospects
DTSTART:20191108T100000
DTEND:20191108T130000
UID:2026-04-23-06-55-21-0-@calendar.boell.de
DTSTAMP:20260423T045521
DESCRIPTION:▶ Siehe Veranstaltungsbeschreibung – New Delhi – Externe 
 Veranstaltung
END:VEVENT
END:VCALENDAR
