BEGIN:VCALENDAR
VERSION:2.0
PRODID:-//ZContent.net//ZapCalLib 1.0//EN
CALSCALE:GREGORIAN
METHOD:PUBLISH
BEGIN:VEVENT
SUMMARY:Men as Experts and Women as Victims? | How to Achieve Gender Divers
 ity in News Sourcing
DTSTART:20191205T164500
DTEND:20191205T180000
UID:2026-04-22-03-23-17-0-@calendar.boell.de
DTSTAMP:20260422T012317
DESCRIPTION:▶ Siehe Veranstaltungsbeschreibung – Prag – 
END:VEVENT
END:VCALENDAR
