BEGIN:VCALENDAR
VERSION:2.0
PRODID:-//ZContent.net//ZapCalLib 1.0//EN
CALSCALE:GREGORIAN
METHOD:PUBLISH
BEGIN:VEVENT
SUMMARY:The International Dimensions of Regional Conflicts: The cases of Ge
 orgia and Ukraine
DTSTART:20191205T180000
DTEND:20191205T200000
UID:2026-04-24-21-30-06-0-@calendar.boell.de
DTSTAMP:20260424T193006
DESCRIPTION:â–¶ Siehe Veranstaltungsbeschreibung â€“ Tiflis â€“ Heinrich-BÃ
 ¶ll-Stiftung Tbilisi - Region SÃ¼dkaukasus
END:VEVENT
END:VCALENDAR
