BEGIN:VCALENDAR
VERSION:2.0
PRODID:-//ZContent.net//ZapCalLib 1.0//EN
CALSCALE:GREGORIAN
METHOD:PUBLISH
BEGIN:VEVENT
SUMMARY:Gender Forum | The Inequality Crisis in Kenya and around the world;
  the fight for our lives
DTSTART:20200121T150000
DTEND:20200121T190000
UID:2026-04-26-06-15-25-0-@calendar.boell.de
DTSTAMP:20260426T041525
DESCRIPTION:▶ Siehe Veranstaltungsbeschreibung – Nairobi – Heinrich-B
 öll-Stiftung Nairobi Office - Kenya\, Uganda\, Tanzania
END:VEVENT
END:VCALENDAR
