BEGIN:VCALENDAR
VERSION:2.0
PRODID:-//ZContent.net//ZapCalLib 1.0//EN
CALSCALE:GREGORIAN
METHOD:PUBLISH
BEGIN:VEVENT
SUMMARY:Closed Ports, Dubious Partners | The EU’s Policy of Outsourcing R
 esponsibility in the Mediterranean
DTSTART:20200602T190000
DTEND:20200602T203000
UID:2026-04-24-14-15-11-0-@calendar.boell.de
DTSTAMP:20260424T121511
DESCRIPTION:▶ Online-Veranstaltung – Brüssel – Heinrich-Böll-Stiftu
 ng Brüssel - Europäische Union
END:VEVENT
END:VCALENDAR
