BEGIN:VCALENDAR
VERSION:2.0
PRODID:-//ZContent.net//ZapCalLib 1.0//EN
CALSCALE:GREGORIAN
METHOD:PUBLISH
BEGIN:VEVENT
SUMMARY:CANCELLED - XI Conference on Feminicides
DTSTART:20200304T143000
DTEND:20200304T183000
UID:2026-04-24-14-14-56-0-@calendar.boell.de
DTSTAMP:20260424T121456
DESCRIPTION:▶ Siehe Veranstaltungsbeschreibung – Brüssel – Heinrich-
 Böll-Stiftung Brüssel - Europäische Union
END:VEVENT
END:VCALENDAR
