BEGIN:VCALENDAR
VERSION:2.0
PRODID:-//ZContent.net//ZapCalLib 1.0//EN
CALSCALE:GREGORIAN
METHOD:PUBLISH
BEGIN:VEVENT
SUMMARY:CANCELLED! - Iran and the South Caucasus: Regional consequences of 
 the conflict with the US
DTSTART:20200318T180000
DTEND:20200318T193000
UID:2026-04-21-19-14-39-0-@calendar.boell.de
DTSTAMP:20260421T171439
DESCRIPTION:Tiflis – Heinrich-Böll-Stiftung Tbilisi - Region Südkaukasu
 s
END:VEVENT
END:VCALENDAR
