BEGIN:VCALENDAR
VERSION:2.0
PRODID:-//ZContent.net//ZapCalLib 1.0//EN
CALSCALE:GREGORIAN
METHOD:PUBLISH
BEGIN:VEVENT
SUMMARY:CANCELLED! - Changing dynamics of Iran-US relations and its impact 
 on the South Caucasus
DTSTART:20200319T183000
DTEND:20200319T203000
UID:2026-04-21-19-14-37-0-@calendar.boell.de
DTSTAMP:20260421T171437
DESCRIPTION:▶ Siehe Veranstaltungsbeschreibung – Jerewan – Heinrich-B
 öll-Stiftung Tbilisi - Region Südkaukasus
END:VEVENT
END:VCALENDAR
