BEGIN:VCALENDAR
VERSION:2.0
PRODID:-//ZContent.net//ZapCalLib 1.0//EN
CALSCALE:GREGORIAN
METHOD:PUBLISH
BEGIN:VEVENT
SUMMARY:Zündstoff für die Klimakrise: Der unterschätzte Beitrag von Erdg
 as zur Erderhitzung | Deutschlands wichtige Rolle als größter Gasmarkt i
 n der EU
DTSTART:20200513T160000
DTEND:20200513T180000
UID:2026-04-21-12-01-19-0-@calendar.boell.de
DTSTAMP:20260421T100119
DESCRIPTION:▶ Online-Veranstaltung – Heinrich-Böll-Stiftung - Bundesst
 iftung Berlin
END:VEVENT
END:VCALENDAR
