BEGIN:VCALENDAR
VERSION:2.0
PRODID:-//ZContent.net//ZapCalLib 1.0//EN
CALSCALE:GREGORIAN
METHOD:PUBLISH
BEGIN:VEVENT
SUMMARY:Covid-19 Contact Tracing Apps in the U.S., EU and Asia | Online deb
 ate I
DTSTART:20200610T150000
DTEND:20200610T160000
UID:2026-04-23-18-12-47-0-@calendar.boell.de
DTSTAMP:20260423T161247
DESCRIPTION:▶ Siehe Veranstaltungsbeschreibung – Washington D.C. – He
 inrich-Böll-Stiftung Washington\, DC - USA\, Kanada\, Globaler Dialog
END:VEVENT
END:VCALENDAR
