BEGIN:VCALENDAR
VERSION:2.0
PRODID:-//ZContent.net//ZapCalLib 1.0//EN
CALSCALE:GREGORIAN
METHOD:PUBLISH
BEGIN:VEVENT
SUMMARY:Public health and societal resilience: which role for the EU? | Joi
 nt online talks “Worldwide Pandemic, European Responses” 
DTSTART:20200702T140000
DTEND:20200702T150000
UID:2026-04-21-19-14-39-0-@calendar.boell.de
DTSTAMP:20260421T171439
DESCRIPTION:▶ Online-Veranstaltung – Brüssel – Heinrich-Böll-Stiftu
 ng Brüssel - Europäische Union
END:VEVENT
END:VCALENDAR
