BEGIN:VCALENDAR
VERSION:2.0
PRODID:-//ZContent.net//ZapCalLib 1.0//EN
CALSCALE:GREGORIAN
METHOD:PUBLISH
BEGIN:VEVENT
SUMMARY:Die Ernährung der Zukunft | Visionen der Bioökonomie - internatio
 nales literaturfestival berlin
DTSTART:20200913T140000
DTEND:20200913T153000
UID:2026-04-21-21-16-12-0-@calendar.boell.de
DTSTAMP:20260421T191612
DESCRIPTION:▶ Siehe Veranstaltungsbeschreibung – Berlin – Externe Ver
 anstaltung
END:VEVENT
END:VCALENDAR
