BEGIN:VCALENDAR
VERSION:2.0
PRODID:-//ZContent.net//ZapCalLib 1.0//EN
CALSCALE:GREGORIAN
METHOD:PUBLISH
BEGIN:VEVENT
SUMMARY:Globale/Transatlantische Verkettung: | Klimaschädliche LNG-Förder
 ung in Kanada mithilfe deutscher Finanzgarantien
DTSTART:20201007T160000
DTEND:20201007T173000
UID:2026-04-21-12-12-31-0-@calendar.boell.de
DTSTAMP:20260421T101231
DESCRIPTION:▶ Online-Veranstaltung – Heinrich-Böll-Stiftung - Bundesst
 iftung Berlin
END:VEVENT
END:VCALENDAR
