BEGIN:VCALENDAR
VERSION:2.0
PRODID:-//ZContent.net//ZapCalLib 1.0//EN
CALSCALE:GREGORIAN
METHOD:PUBLISH
BEGIN:VEVENT
SUMMARY:Gender and economic policy discussion forum XXXIII | Impact of the 
 COVID-19 pandemic & subsequent lockdown on violence and women’s security
DTSTART:20200925T183000
DTEND:20200925T200000
UID:2026-04-22-21-56-23-0-@calendar.boell.de
DTSTAMP:20260422T195623
DESCRIPTION:▶ Online-Veranstaltung – New Delhi – 
END:VEVENT
END:VCALENDAR
