BEGIN:VCALENDAR
VERSION:2.0
PRODID:-//ZContent.net//ZapCalLib 1.0//EN
CALSCALE:GREGORIAN
METHOD:PUBLISH
BEGIN:VEVENT
SUMMARY:Beyond the Campaign Trail: The Future of the American Presidency | 
 Third session of the transatlantic virtual event series "Road to Election 
 Night & Beyond" #R2EN
DTSTART:20201009T150000
DTEND:20201009T150000
UID:2026-04-22-03-23-26-0-@calendar.boell.de
DTSTAMP:20260422T012326
DESCRIPTION:▶ Siehe Veranstaltungsbeschreibung – 
END:VEVENT
END:VCALENDAR
