BEGIN:VCALENDAR
VERSION:2.0
PRODID:-//ZContent.net//ZapCalLib 1.0//EN
CALSCALE:GREGORIAN
METHOD:PUBLISH
BEGIN:VEVENT
SUMMARY:Writing the new story of plastic: virtual conference | Film screeni
 ng "The Story of Plastic" and panel debates
DTSTART:20201029T120000
DTEND:20201029T160000
UID:2026-04-24-05-17-21-0-@calendar.boell.de
DTSTAMP:20260424T031721
DESCRIPTION:▶ Online-Veranstaltung – Externe Veranstaltung
END:VEVENT
END:VCALENDAR
