BEGIN:VCALENDAR
VERSION:2.0
PRODID:-//ZContent.net//ZapCalLib 1.0//EN
CALSCALE:GREGORIAN
METHOD:PUBLISH
BEGIN:VEVENT
SUMMARY:Data for public good in time of pandemic | Open Data practices in A
 sia and Europe. 7 p.m. Hong Kong time (GMT+8) / 12 p.m. Brussels time (CE
 T).
DTSTART:20201124T120000
DTEND:20201124T130000
UID:2026-04-21-12-45-30-0-@calendar.boell.de
DTSTAMP:20260421T104530
DESCRIPTION:▶ Siehe Veranstaltungsbeschreibung – 
END:VEVENT
END:VCALENDAR
