BEGIN:VCALENDAR
VERSION:2.0
PRODID:-//ZContent.net//ZapCalLib 1.0//EN
CALSCALE:GREGORIAN
METHOD:PUBLISH
BEGIN:VEVENT
SUMMARY:Socio-economic Implications of Covid-19 for the EU with Sven Giegol
 d, MP of European Parliament
DTSTART:20201112T111500
DTEND:20201112T121500
UID:2026-04-20-03-21-34-0-@calendar.boell.de
DTSTAMP:20260420T012134
DESCRIPTION:▶ Online-Veranstaltung – Heinrich-Böll-Stiftung Tbilisi - 
 Region Südkaukasus
END:VEVENT
END:VCALENDAR
