BEGIN:VCALENDAR
VERSION:2.0
PRODID:-//ZContent.net//ZapCalLib 1.0//EN
CALSCALE:GREGORIAN
METHOD:PUBLISH
BEGIN:VEVENT
SUMMARY:Wie viel Europa steckt drin? Solidarität und Mobilität | Anna Dep
 arnay-Grunenberg im Gespräch mit Ellen Ueberschär
DTSTART:20210623T133000
DTEND:20210623T141500
UID:2026-04-23-23-19-52-0-@calendar.boell.de
DTSTAMP:20260423T211952
DESCRIPTION:▶ Online-Veranstaltung – Heinrich-Böll-Stiftung - Bundesst
 iftung Berlin
END:VEVENT
END:VCALENDAR
