BEGIN:VCALENDAR
VERSION:2.0
PRODID:-//ZContent.net//ZapCalLib 1.0//EN
CALSCALE:GREGORIAN
METHOD:PUBLISH
BEGIN:VEVENT
SUMMARY:Women included or excluded in G20: Implications on Gender Equality 
DTSTART:20210802T170000
DTEND:20210802T190000
UID:2026-04-26-05-22-00-0-@calendar.boell.de
DTSTAMP:20260426T032200
DESCRIPTION:▶ Online-Veranstaltung – 
END:VEVENT
END:VCALENDAR
