BEGIN:VCALENDAR
VERSION:2.0
PRODID:-//ZContent.net//ZapCalLib 1.0//EN
CALSCALE:GREGORIAN
METHOD:PUBLISH
BEGIN:VEVENT
SUMMARY:Women, Ecology and Performing Arts in Northeast India | Cultures Of
  Peace
DTSTART:20211006T160000
DTEND:20211006T180000
UID:2026-04-26-05-21-59-0-@calendar.boell.de
DTSTAMP:20260426T032159
DESCRIPTION:▶ Online-Veranstaltung – 
END:VEVENT
END:VCALENDAR
