BEGIN:VCALENDAR
VERSION:2.0
PRODID:-//ZContent.net//ZapCalLib 1.0//EN
CALSCALE:GREGORIAN
METHOD:PUBLISH
BEGIN:VEVENT
SUMMARY:Refugee women and intersectionality in the EU Pact on Migration and
  Asylum | ** We have reached the limit of registrations. If you would like
  to join a waiting list, please email Melanie Bernhofer. **
DTSTART:20211109T133000
DTEND:20211109T153000
UID:2026-04-23-17-54-54-0-@calendar.boell.de
DTSTAMP:20260423T155454
DESCRIPTION:▶ Siehe Veranstaltungsbeschreibung – Brüssel – Heinrich-
 Böll-Stiftung Brüssel - Europäische Union
END:VEVENT
END:VCALENDAR
