BEGIN:VCALENDAR
VERSION:2.0
PRODID:-//ZContent.net//ZapCalLib 1.0//EN
CALSCALE:GREGORIAN
METHOD:PUBLISH
BEGIN:VEVENT
SUMMARY:Putting the ‘People’ in People’s Parliament | End of Project 
 Event
DTSTART:20211125T100000
DTEND:20211125T140000
UID:2026-04-21-13-10-43-0-@calendar.boell.de
DTSTAMP:20260421T111043
DESCRIPTION:▶ Siehe Veranstaltungsbeschreibung – Heinrich-Böll-Stiftun
 g Kapstadt - Südafrika\, Namibia\, Simbabwe
END:VEVENT
END:VCALENDAR
