BEGIN:VCALENDAR
VERSION:2.0
PRODID:-//ZContent.net//ZapCalLib 1.0//EN
CALSCALE:GREGORIAN
METHOD:PUBLISH
BEGIN:VEVENT
SUMMARY:22nd Foreign Policy Conference - Expert Conference | On The Way to 
 Carbon Zero
DTSTART:20220128T103000
DTEND:20220128T150000
UID:2026-04-19-19-17-50-0-@calendar.boell.de
DTSTAMP:20260419T171750
DESCRIPTION:▶ Siehe Veranstaltungsbeschreibung – Heinrich-Böll-Stiftun
 g - Bundesstiftung Berlin
END:VEVENT
END:VCALENDAR
