BEGIN:VCALENDAR
VERSION:2.0
PRODID:-//ZContent.net//ZapCalLib 1.0//EN
CALSCALE:GREGORIAN
METHOD:PUBLISH
BEGIN:VEVENT
SUMMARY:Filmová projekce: Ekocida | Current Populism in Europe and Climate
  Change
DTSTART:20220516T090000
DTEND:20220516T190000
UID:2026-04-24-22-56-46-0-@calendar.boell.de
DTSTAMP:20260424T205646
DESCRIPTION:▶ Siehe Veranstaltungsbeschreibung – Prag – Heinrich-Böl
 l-Stiftung Prag - Tschechische Republik\, Slowakei\, Ungarn
END:VEVENT
END:VCALENDAR
