BEGIN:VCALENDAR
VERSION:2.0
PRODID:-//ZContent.net//ZapCalLib 1.0//EN
CALSCALE:GREGORIAN
METHOD:PUBLISH
BEGIN:VEVENT
SUMMARY:Filmová projekce: Ekocida | Current Populism in Europe and Climate
  Change
DTSTART:20220515T180000
DTEND:20220515T203000
UID:2026-04-25-00-15-35-0-@calendar.boell.de
DTSTAMP:20260424T221535
DESCRIPTION:▶ Siehe Veranstaltungsbeschreibung – Prag – Heinrich-Böl
 l-Stiftung Prag - Tschechische Republik\, Slowakei\, Ungarn
END:VEVENT
END:VCALENDAR
