BEGIN:VCALENDAR
VERSION:2.0
PRODID:-//ZContent.net//ZapCalLib 1.0//EN
CALSCALE:GREGORIAN
METHOD:PUBLISH
BEGIN:VEVENT
SUMMARY:Protection of data rights for citizens and users
DTSTART:20220615T213000
DTEND:20220615T223000
UID:2026-04-26-05-22-00-0-@calendar.boell.de
DTSTAMP:20260426T032200
DESCRIPTION:▶ Online-Veranstaltung – Heinrich-Böll-Stiftung - Seoul
END:VEVENT
END:VCALENDAR
