BEGIN:VCALENDAR
VERSION:2.0
PRODID:-//ZContent.net//ZapCalLib 1.0//EN
CALSCALE:GREGORIAN
METHOD:PUBLISH
BEGIN:VEVENT
SUMMARY:Central Banking and its Discontents: The Role of Monetary Policy in
  Contemporary Capitalism | International conference
DTSTART:20220711T150000
DTEND:20220711T163000
UID:2026-04-21-20-03-19-0-@calendar.boell.de
DTSTAMP:20260421T180319
DESCRIPTION:▶ Livestream auf boell.de/stream – Externe Veranstaltung
END:VEVENT
END:VCALENDAR
