BEGIN:VCALENDAR
VERSION:2.0
PRODID:-//ZContent.net//ZapCalLib 1.0//EN
CALSCALE:GREGORIAN
METHOD:PUBLISH
BEGIN:VEVENT
SUMMARY:New Social Contract | Transforming Finance for Loss and Damage
DTSTART:20220630T111500
DTEND:20220630T124500
UID:2026-04-22-03-23-14-0-@calendar.boell.de
DTSTAMP:20260422T012314
DESCRIPTION:▶ Siehe Veranstaltungsbeschreibung – 
END:VEVENT
END:VCALENDAR
