BEGIN:VCALENDAR
VERSION:2.0
PRODID:-//ZContent.net//ZapCalLib 1.0//EN
CALSCALE:GREGORIAN
METHOD:PUBLISH
BEGIN:VEVENT
SUMMARY:Myanmar zwischen Exil und Widerstand | Ãœberlebensstrategien und Pr
 otestformen unter der MilitÃ¤rdiktatur
DTSTART:20220901T190000
DTEND:20220901T210000
UID:2026-04-26-06-15-27-0-@calendar.boell.de
DTSTAMP:20260426T041527
DESCRIPTION:â–¶ Siehe Veranstaltungsbeschreibung â€“ Berlin â€“ Heinrich-BÃ
 ¶ll-Stiftung - Bundesstiftung Berlin
END:VEVENT
END:VCALENDAR
