BEGIN:VCALENDAR
VERSION:2.0
PRODID:-//ZContent.net//ZapCalLib 1.0//EN
CALSCALE:GREGORIAN
METHOD:PUBLISH
BEGIN:VEVENT
SUMMARY: Investigating Infrastructure: Ecology, Sustainability and Society 
  |  Book Launch & Webinar
DTSTART:20220913T173000
DTEND:20220913T193000
UID:2026-04-22-22-55-17-0-@calendar.boell.de
DTSTAMP:20260422T205517
DESCRIPTION:▶ Online-Veranstaltung – 
END:VEVENT
END:VCALENDAR
