BEGIN:VCALENDAR
VERSION:2.0
PRODID:-//ZContent.net//ZapCalLib 1.0//EN
CALSCALE:GREGORIAN
METHOD:PUBLISH
BEGIN:VEVENT
SUMMARY:Launch of the Pesticide Atlas 2022 | Facts and figures about toxic 
 chemicals in agriculture
DTSTART:20221025T093000
DTEND:20221025T110000
UID:2026-04-22-16-44-24-0-@calendar.boell.de
DTSTAMP:20260422T144424
DESCRIPTION:▶ Siehe Veranstaltungsbeschreibung – Brüssel – Heinrich-
 Böll-Stiftung Brüssel - Europäische Union
END:VEVENT
END:VCALENDAR
