BEGIN:VCALENDAR
VERSION:2.0
PRODID:-//ZContent.net//ZapCalLib 1.0//EN
CALSCALE:GREGORIAN
METHOD:PUBLISH
BEGIN:VEVENT
SUMMARY:Think Tank Forum: Rethinking Enlargement in times of Geopolitical E
 arthquakes | Livestream
DTSTART:20221013T150000
DTEND:20221013T170000
UID:2026-04-22-22-55-16-0-@calendar.boell.de
DTSTAMP:20260422T205516
DESCRIPTION:▶ Online-Veranstaltung – 
END:VEVENT
END:VCALENDAR
