BEGIN:VCALENDAR
VERSION:2.0
PRODID:-//ZContent.net//ZapCalLib 1.0//EN
CALSCALE:GREGORIAN
METHOD:PUBLISH
BEGIN:VEVENT
SUMMARY:Discussion: Gender equality role in decarbonization and green recov
 ery
DTSTART:20221110T140000
DTEND:20221110T153000
UID:2026-04-26-06-15-23-0-@calendar.boell.de
DTSTAMP:20260426T041523
DESCRIPTION:▶ Siehe Veranstaltungsbeschreibung – Heinrich-Böll-Stiftun
 g Kiew - Ukraine
END:VEVENT
END:VCALENDAR
