BEGIN:VCALENDAR
VERSION:2.0
PRODID:-//ZContent.net//ZapCalLib 1.0//EN
CALSCALE:GREGORIAN
METHOD:PUBLISH
BEGIN:VEVENT
SUMMARY:Cítiš sa bezpečne?  | Diskusia o feministických prístupoch k b
 ezpečnosti
DTSTART:20221123T173048
DTEND:20221123T200000
UID:2026-04-21-12-45-22-0-@calendar.boell.de
DTSTAMP:20260421T104522
DESCRIPTION:▶ Siehe Veranstaltungsbeschreibung – 
END:VEVENT
END:VCALENDAR
